BEGIN:VCALENDAR
VERSION:2.0
PRODID:-//Temple Beth Shalom - ECPv6.15.14//NONSGML v1.0//EN
CALSCALE:GREGORIAN
METHOD:PUBLISH
X-WR-CALNAME:Temple Beth Shalom
X-ORIGINAL-URL:https://seashul.org
X-WR-CALDESC:Events for Temple Beth Shalom
REFRESH-INTERVAL;VALUE=DURATION:PT1H
X-Robots-Tag:noindex
X-PUBLISHED-TTL:PT1H
BEGIN:VTIMEZONE
TZID:America/New_York
BEGIN:DAYLIGHT
TZOFFSETFROM:-0500
TZOFFSETTO:-0400
TZNAME:EDT
DTSTART:20250309T070000
END:DAYLIGHT
BEGIN:STANDARD
TZOFFSETFROM:-0400
TZOFFSETTO:-0500
TZNAME:EST
DTSTART:20251102T060000
END:STANDARD
BEGIN:DAYLIGHT
TZOFFSETFROM:-0500
TZOFFSETTO:-0400
TZNAME:EDT
DTSTART:20260308T070000
END:DAYLIGHT
BEGIN:STANDARD
TZOFFSETFROM:-0400
TZOFFSETTO:-0500
TZNAME:EST
DTSTART:20261101T060000
END:STANDARD
BEGIN:DAYLIGHT
TZOFFSETFROM:-0500
TZOFFSETTO:-0400
TZNAME:EDT
DTSTART:20270314T070000
END:DAYLIGHT
BEGIN:STANDARD
TZOFFSETFROM:-0400
TZOFFSETTO:-0500
TZNAME:EST
DTSTART:20271107T060000
END:STANDARD
END:VTIMEZONE
BEGIN:VEVENT
DTSTART;VALUE=DATE:20260301
DTEND;VALUE=DATE:20260302
DTSTAMP:20260419T080756
CREATED:20240229T233042Z
LAST-MODIFIED:20250608T231519Z
UID:62922-1772323200-1772409599@seashul.org
SUMMARY:12th of Adar\, 5786
DESCRIPTION:
URL:https://seashul.org/events/12th-of-adar-5786/
LOCATION:NJ
END:VEVENT
BEGIN:VEVENT
DTSTART;VALUE=DATE:20260302
DTEND;VALUE=DATE:20260303
DTSTAMP:20260419T080756
CREATED:20240303T000048Z
LAST-MODIFIED:20250608T231519Z
UID:62926-1772409600-1772495999@seashul.org
SUMMARY:Erev Purim
DESCRIPTION:Purim is one of the most joyous and fun holidays on the Jewish calendar. It commemorates a time when the Jewish people living in Persia were saved from extermination\nhttps://www.hebcal.com/holidays/purim?utm_source=js&utm_medium=icalendar
URL:https://seashul.org/events/erev-purim-7/
LOCATION:NJ
END:VEVENT
BEGIN:VEVENT
DTSTART;VALUE=DATE:20260302
DTEND;VALUE=DATE:20260303
DTSTAMP:20260419T080756
CREATED:20240303T000048Z
LAST-MODIFIED:20250608T231519Z
UID:62927-1772409600-1772495999@seashul.org
SUMMARY:13th of Adar\, 5786
DESCRIPTION:
URL:https://seashul.org/events/13th-of-adar-5786/
LOCATION:NJ
END:VEVENT
BEGIN:VEVENT
DTSTART;VALUE=DATE:20260302
DTEND;VALUE=DATE:20260303
DTSTAMP:20260419T080756
CREATED:20240303T000048Z
LAST-MODIFIED:20250608T231519Z
UID:62928-1772409600-1772495999@seashul.org
SUMMARY:Ta'anit Esther
DESCRIPTION:Fast of Esther\nTorah: Exodus 32:11-34:10\nhttps://www.hebcal.com/holidays/taanit-esther?utm_source=js&utm_medium=icalendar
URL:https://seashul.org/events/taanit-esther-7/
LOCATION:NJ
END:VEVENT
BEGIN:VEVENT
DTSTART;VALUE=DATE:20260303
DTEND;VALUE=DATE:20260304
DTSTAMP:20260419T080756
CREATED:20240304T000049Z
LAST-MODIFIED:20250608T231519Z
UID:62933-1772496000-1772582399@seashul.org
SUMMARY:14th of Adar\, 5786
DESCRIPTION:
URL:https://seashul.org/events/14th-of-adar-5786/
LOCATION:NJ
END:VEVENT
BEGIN:VEVENT
DTSTART;VALUE=DATE:20260303
DTEND;VALUE=DATE:20260304
DTSTAMP:20260419T080756
CREATED:20240304T000050Z
LAST-MODIFIED:20250608T231519Z
UID:62934-1772496000-1772582399@seashul.org
SUMMARY:Purim
DESCRIPTION:Purim is one of the most joyous and fun holidays on the Jewish calendar. It commemorates a time when the Jewish people living in Persia were saved from extermination\nTorah: Exodus 17:8-17:16\nhttps://www.hebcal.com/holidays/purim?utm_source=js&utm_medium=icalendar
URL:https://seashul.org/events/purim-7/
LOCATION:NJ
END:VEVENT
BEGIN:VEVENT
DTSTART;VALUE=DATE:20260304
DTEND;VALUE=DATE:20260305
DTSTAMP:20260419T080756
CREATED:20240305T231552Z
LAST-MODIFIED:20250608T231519Z
UID:62939-1772582400-1772668799@seashul.org
SUMMARY:Shushan Purim
DESCRIPTION:Purim celebrated in Jerusalem and walled cities\nTorah: Exodus 17:8-17:16\nhttps://www.hebcal.com/holidays/shushan-purim?utm_source=js&utm_medium=icalendar
URL:https://seashul.org/events/shushan-purim-7/
LOCATION:NJ
END:VEVENT
BEGIN:VEVENT
DTSTART;VALUE=DATE:20260304
DTEND;VALUE=DATE:20260305
DTSTAMP:20260419T080756
CREATED:20240305T231552Z
LAST-MODIFIED:20250608T231519Z
UID:62940-1772582400-1772668799@seashul.org
SUMMARY:15th of Adar\, 5786
DESCRIPTION:
URL:https://seashul.org/events/15th-of-adar-5786/
LOCATION:NJ
END:VEVENT
BEGIN:VEVENT
DTSTART;TZID=America/New_York:20260304T140000
DTEND;TZID=America/New_York:20260304T150000
DTSTAMP:20260419T080756
CREATED:20240305T231551Z
LAST-MODIFIED:20250608T231519Z
UID:62938-1772632800-1772636400@seashul.org
SUMMARY:TBS Board meeting
DESCRIPTION:
URL:https://seashul.org/events/tbs-board-meeting-51/
LOCATION:Temple Beth Shalom\, 4419 W Brigantine Ave\, Brigantine\, NJ\, United States
END:VEVENT
BEGIN:VEVENT
DTSTART;VALUE=DATE:20260305
DTEND;VALUE=DATE:20260306
DTSTAMP:20260419T080756
CREATED:20240305T231552Z
LAST-MODIFIED:20250608T231519Z
UID:62941-1772668800-1772755199@seashul.org
SUMMARY:16th of Adar\, 5786
DESCRIPTION:
URL:https://seashul.org/events/16th-of-adar-5786/
LOCATION:NJ
END:VEVENT
BEGIN:VEVENT
DTSTART;VALUE=DATE:20260306
DTEND;VALUE=DATE:20260307
DTSTAMP:20260419T080756
CREATED:20240307T234458Z
LAST-MODIFIED:20250608T231519Z
UID:62958-1772755200-1772841599@seashul.org
SUMMARY:17th of Adar\, 5786
DESCRIPTION:
URL:https://seashul.org/events/17th-of-adar-5786/
LOCATION:NJ
END:VEVENT
BEGIN:VEVENT
DTSTART;TZID=America/New_York:20260306T173700
DTEND;TZID=America/New_York:20260306T173700
DTSTAMP:20260419T080756
CREATED:20240307T234459Z
LAST-MODIFIED:20250608T231520Z
UID:62959-1772818620-1772818620@seashul.org
SUMMARY:Candle lighting
DESCRIPTION:
URL:https://seashul.org/events/candle-lighting-331/
LOCATION:Brigantine
END:VEVENT
BEGIN:VEVENT
DTSTART;VALUE=DATE:20260307
DTEND;VALUE=DATE:20260308
DTSTAMP:20260419T080756
CREATED:20240307T234940Z
LAST-MODIFIED:20250608T231520Z
UID:62960-1772841600-1772927999@seashul.org
SUMMARY:Shabbat Parah
DESCRIPTION:Shabbat of the Red Heifer\nHaftarah: Ezekiel 36:16 – 36:38\nhttps://www.hebcal.com/holidays/shabbat-parah?utm_source=js&utm_medium=icalendar
URL:https://seashul.org/events/shabbat-parah-5/
LOCATION:NJ
END:VEVENT
BEGIN:VEVENT
DTSTART;VALUE=DATE:20260307
DTEND;VALUE=DATE:20260308
DTSTAMP:20260419T080756
CREATED:20240307T234942Z
LAST-MODIFIED:20250608T231520Z
UID:62964-1772841600-1772927999@seashul.org
SUMMARY:18th of Adar\, 5786
DESCRIPTION:
URL:https://seashul.org/events/18th-of-adar-5786/
LOCATION:NJ
END:VEVENT
BEGIN:VEVENT
DTSTART;VALUE=DATE:20260307
DTEND;VALUE=DATE:20260308
DTSTAMP:20260419T080756
CREATED:20240307T234943Z
LAST-MODIFIED:20250608T231520Z
UID:62965-1772841600-1772927999@seashul.org
SUMMARY:Parashat Ki Tisa
DESCRIPTION:Torah: Exodus 30:11-34:35\nMaftir: Numbers 19:1 – 19:22 | Shabbat Parah\nHaftarah: Ezekiel 36:16 – 36:38 | Shabbat Parah\nHaftarah for Sephardim: I Kings 18:20 – 18:39\nhttps://www.hebcal.com/sedrot/kitisa?utm_source=js&utm_medium=icalendar
URL:https://seashul.org/events/parashat-ki-tisa-7/
LOCATION:NJ
END:VEVENT
BEGIN:VEVENT
DTSTART;TZID=America/New_York:20260307T184100
DTEND;TZID=America/New_York:20260307T184100
DTSTAMP:20260419T080756
CREATED:20240307T234942Z
LAST-MODIFIED:20250608T231520Z
UID:62963-1772908860-1772908860@seashul.org
SUMMARY:Havdalah (45 min)
DESCRIPTION:
URL:https://seashul.org/events/havdalah-45-min-269/
LOCATION:Brigantine
END:VEVENT
BEGIN:VEVENT
DTSTART;VALUE=DATE:20260308
DTEND;VALUE=DATE:20260309
DTSTAMP:20260419T080756
CREATED:20240309T000332Z
LAST-MODIFIED:20250608T231520Z
UID:62971-1772928000-1773014399@seashul.org
SUMMARY:19th of Adar\, 5786
DESCRIPTION:
URL:https://seashul.org/events/19th-of-adar-5786/
LOCATION:NJ
END:VEVENT
BEGIN:VEVENT
DTSTART;VALUE=DATE:20260309
DTEND;VALUE=DATE:20260310
DTSTAMP:20260419T080756
CREATED:20240310T232154Z
LAST-MODIFIED:20250608T231520Z
UID:62977-1773014400-1773100799@seashul.org
SUMMARY:20th of Adar\, 5786
DESCRIPTION:
URL:https://seashul.org/events/20th-of-adar-5786/
LOCATION:NJ
END:VEVENT
BEGIN:VEVENT
DTSTART;VALUE=DATE:20260310
DTEND;VALUE=DATE:20260311
DTSTAMP:20260419T080756
CREATED:20240310T232154Z
LAST-MODIFIED:20250608T231520Z
UID:62978-1773100800-1773187199@seashul.org
SUMMARY:21st of Adar\, 5786
DESCRIPTION:
URL:https://seashul.org/events/21st-of-adar-5786/
LOCATION:NJ
END:VEVENT
BEGIN:VEVENT
DTSTART;VALUE=DATE:20260311
DTEND;VALUE=DATE:20260312
DTSTAMP:20260419T080756
CREATED:20240311T233304Z
LAST-MODIFIED:20250608T231520Z
UID:62982-1773187200-1773273599@seashul.org
SUMMARY:22nd of Adar\, 5786
DESCRIPTION:
URL:https://seashul.org/events/22nd-of-adar-5786/
LOCATION:NJ
END:VEVENT
BEGIN:VEVENT
DTSTART;VALUE=DATE:20260312
DTEND;VALUE=DATE:20260313
DTSTAMP:20260419T080756
CREATED:20240312T234840Z
LAST-MODIFIED:20250608T231520Z
UID:62985-1773273600-1773359999@seashul.org
SUMMARY:23rd of Adar\, 5786
DESCRIPTION:
URL:https://seashul.org/events/23rd-of-adar-5786/
LOCATION:NJ
END:VEVENT
BEGIN:VEVENT
DTSTART;VALUE=DATE:20260313
DTEND;VALUE=DATE:20260314
DTSTAMP:20260419T080756
CREATED:20240314T231808Z
LAST-MODIFIED:20250608T231520Z
UID:62990-1773360000-1773446399@seashul.org
SUMMARY:24th of Adar\, 5786
DESCRIPTION:
URL:https://seashul.org/events/24th-of-adar-5786/
LOCATION:NJ
END:VEVENT
BEGIN:VEVENT
DTSTART;TZID=America/New_York:20260313T184400
DTEND;TZID=America/New_York:20260313T184400
DTSTAMP:20260419T080756
CREATED:20240314T231806Z
LAST-MODIFIED:20250608T231520Z
UID:62988-1773427440-1773427440@seashul.org
SUMMARY:Candle lighting
DESCRIPTION:
URL:https://seashul.org/events/candle-lighting-424/
LOCATION:Brigantine
END:VEVENT
BEGIN:VEVENT
DTSTART;VALUE=DATE:20260314
DTEND;VALUE=DATE:20260315
DTSTAMP:20260419T080756
CREATED:20240314T231808Z
LAST-MODIFIED:20250608T231521Z
UID:62989-1773446400-1773532799@seashul.org
SUMMARY:Shabbat HaChodesh
DESCRIPTION:Shabbat before Rosh Chodesh Nissan\nHaftarah: Ezekiel 45:16 – 46:18\nhttps://www.hebcal.com/holidays/shabbat-hachodesh?utm_source=js&utm_medium=icalendar
URL:https://seashul.org/events/shabbat-hachodesh-5/
LOCATION:NJ
END:VEVENT
BEGIN:VEVENT
DTSTART;VALUE=DATE:20260314
DTEND;VALUE=DATE:20260315
DTSTAMP:20260419T080756
CREATED:20240314T231810Z
LAST-MODIFIED:20250608T231520Z
UID:62992-1773446400-1773532799@seashul.org
SUMMARY:25th of Adar\, 5786
DESCRIPTION:
URL:https://seashul.org/events/25th-of-adar-5786/
LOCATION:NJ
END:VEVENT
BEGIN:VEVENT
DTSTART;VALUE=DATE:20260314
DTEND;VALUE=DATE:20260315
DTSTAMP:20260419T080756
CREATED:20240314T231810Z
LAST-MODIFIED:20250608T231520Z
UID:62993-1773446400-1773532799@seashul.org
SUMMARY:Parashat Vayakhel-Pekudei
DESCRIPTION:Torah: Exodus 35:1-40:38\nMaftir: Exodus 12:1 – 12:20 | Shabbat HaChodesh\nHaftarah: Ezekiel 45:16 – 46:18 | Shabbat HaChodesh\nhttps://www.hebcal.com/sedrot/vayakhelpekudei?utm_source=js&utm_medium=icalendar
URL:https://seashul.org/events/parashat-vayakhel-pekudei-4/
LOCATION:NJ
END:VEVENT
BEGIN:VEVENT
DTSTART;TZID=America/New_York:20260314T194900
DTEND;TZID=America/New_York:20260314T194900
DTSTAMP:20260419T080756
CREATED:20240314T231809Z
LAST-MODIFIED:20250608T231520Z
UID:62991-1773517740-1773517740@seashul.org
SUMMARY:Havdalah (45 min)
DESCRIPTION:
URL:https://seashul.org/events/havdalah-45-min-270/
LOCATION:Brigantine
END:VEVENT
BEGIN:VEVENT
DTSTART;VALUE=DATE:20260315
DTEND;VALUE=DATE:20260316
DTSTAMP:20260419T080756
CREATED:20240315T233342Z
LAST-MODIFIED:20250608T231520Z
UID:63000-1773532800-1773619199@seashul.org
SUMMARY:26th of Adar\, 5786
DESCRIPTION:
URL:https://seashul.org/events/26th-of-adar-5786/
LOCATION:NJ
END:VEVENT
BEGIN:VEVENT
DTSTART;VALUE=DATE:20260316
DTEND;VALUE=DATE:20260317
DTSTAMP:20260419T080756
CREATED:20240316T234808Z
LAST-MODIFIED:20250608T231521Z
UID:63004-1773619200-1773705599@seashul.org
SUMMARY:27th of Adar\, 5786
DESCRIPTION:
URL:https://seashul.org/events/27th-of-adar-5786/
LOCATION:NJ
END:VEVENT
BEGIN:VEVENT
DTSTART;VALUE=DATE:20260317
DTEND;VALUE=DATE:20260318
DTSTAMP:20260419T080756
CREATED:20240318T000234Z
LAST-MODIFIED:20250608T231521Z
UID:63007-1773705600-1773791999@seashul.org
SUMMARY:28th of Adar\, 5786
DESCRIPTION:
URL:https://seashul.org/events/28th-of-adar-5786/
LOCATION:NJ
END:VEVENT
END:VCALENDAR