BEGIN:VCALENDAR
VERSION:2.0
PRODID:-//Temple Beth Shalom - ECPv6.15.14//NONSGML v1.0//EN
CALSCALE:GREGORIAN
METHOD:PUBLISH
X-WR-CALNAME:Temple Beth Shalom
X-ORIGINAL-URL:https://seashul.org
X-WR-CALDESC:Events for Temple Beth Shalom
REFRESH-INTERVAL;VALUE=DURATION:PT1H
X-Robots-Tag:noindex
X-PUBLISHED-TTL:PT1H
BEGIN:VTIMEZONE
TZID:America/New_York
BEGIN:DAYLIGHT
TZOFFSETFROM:-0500
TZOFFSETTO:-0400
TZNAME:EDT
DTSTART:20240310T070000
END:DAYLIGHT
BEGIN:STANDARD
TZOFFSETFROM:-0400
TZOFFSETTO:-0500
TZNAME:EST
DTSTART:20241103T060000
END:STANDARD
BEGIN:DAYLIGHT
TZOFFSETFROM:-0500
TZOFFSETTO:-0400
TZNAME:EDT
DTSTART:20250309T070000
END:DAYLIGHT
BEGIN:STANDARD
TZOFFSETFROM:-0400
TZOFFSETTO:-0500
TZNAME:EST
DTSTART:20251102T060000
END:STANDARD
BEGIN:DAYLIGHT
TZOFFSETFROM:-0500
TZOFFSETTO:-0400
TZNAME:EDT
DTSTART:20260308T070000
END:DAYLIGHT
BEGIN:STANDARD
TZOFFSETFROM:-0400
TZOFFSETTO:-0500
TZNAME:EST
DTSTART:20261101T060000
END:STANDARD
END:VTIMEZONE
BEGIN:VEVENT
DTSTART;VALUE=DATE:20250501
DTEND;VALUE=DATE:20250502
DTSTAMP:20260425T181425
CREATED:20230726T163335Z
LAST-MODIFIED:20250501T233710Z
UID:61256-1746057600-1746143999@seashul.org
SUMMARY:18th day of the Omer
DESCRIPTION:
URL:https://seashul.org/events/18th-day-of-the-omer-6/
LOCATION:NJ
END:VEVENT
BEGIN:VEVENT
DTSTART;VALUE=DATE:20250501
DTEND;VALUE=DATE:20250502
DTSTAMP:20260425T181425
CREATED:20230726T163336Z
LAST-MODIFIED:20250501T233710Z
UID:61258-1746057600-1746143999@seashul.org
SUMMARY:3rd of Iyyar\, 5785
DESCRIPTION:
URL:https://seashul.org/events/3rd-of-iyyar-5785/
LOCATION:NJ
END:VEVENT
BEGIN:VEVENT
DTSTART;VALUE=DATE:20250501
DTEND;VALUE=DATE:20250502
DTSTAMP:20260425T181425
CREATED:20230726T163336Z
LAST-MODIFIED:20250501T233710Z
UID:61259-1746057600-1746143999@seashul.org
SUMMARY:Yom HaAtzma'ut
DESCRIPTION:Israeli Independence Day. Commemorates the declaration of independence of Israel in 1948. Note that Hebcal displays modern holidays like Yom HaAtzma’ut according to the Israeli schedule. Although Yom HaAtzma’ut is normally observed on the 5th of Iyyar\, it may be moved earlier or postponed if observance of the holiday (or Yom HaZikaron\, which always preceeds it) would conflict with Shabbat\nhttps://www.hebcal.com/holidays/yom-haatzmaut?utm_source=js&utm_medium=icalendar
URL:https://seashul.org/events/yom-haatzmaut-6/
LOCATION:NJ
END:VEVENT
BEGIN:VEVENT
DTSTART;VALUE=DATE:20250502
DTEND;VALUE=DATE:20250503
DTSTAMP:20260425T181425
CREATED:20230726T163338Z
LAST-MODIFIED:20250502T235637Z
UID:61270-1746144000-1746230399@seashul.org
SUMMARY:4th of Iyyar\, 5785
DESCRIPTION:
URL:https://seashul.org/events/4th-of-iyyar-5785/
LOCATION:NJ
END:VEVENT
BEGIN:VEVENT
DTSTART;VALUE=DATE:20250502
DTEND;VALUE=DATE:20250503
DTSTAMP:20260425T181425
CREATED:20230726T163338Z
LAST-MODIFIED:20250502T235637Z
UID:61269-1746144000-1746230399@seashul.org
SUMMARY:19th day of the Omer
DESCRIPTION:
URL:https://seashul.org/events/19th-day-of-the-omer-6/
LOCATION:NJ
END:VEVENT
BEGIN:VEVENT
DTSTART;VALUE=DATE:20250503
DTEND;VALUE=DATE:20250504
DTSTAMP:20260425T181425
CREATED:20230726T163338Z
LAST-MODIFIED:20250504T000034Z
UID:61266-1746230400-1746316799@seashul.org
SUMMARY:5th of Iyyar\, 5785
DESCRIPTION:
URL:https://seashul.org/events/5th-of-iyyar-5785/
LOCATION:NJ
END:VEVENT
BEGIN:VEVENT
DTSTART;VALUE=DATE:20250503
DTEND;VALUE=DATE:20250504
DTSTAMP:20260425T181425
CREATED:20230726T163338Z
LAST-MODIFIED:20250504T000034Z
UID:61267-1746230400-1746316799@seashul.org
SUMMARY:Parashat Tazria-Metzora
DESCRIPTION:Torah: Leviticus 12:1-15:33\nHaftarah: II Kings 7:3 – 7:20\nhttps://www.hebcal.com/sedrot/tazriametzora?utm_source=js&utm_medium=icalendar
URL:https://seashul.org/events/parashat-tazria-metzora-4/
LOCATION:NJ
END:VEVENT
BEGIN:VEVENT
DTSTART;VALUE=DATE:20250503
DTEND;VALUE=DATE:20250504
DTSTAMP:20260425T181425
CREATED:20230726T163338Z
LAST-MODIFIED:20250504T000034Z
UID:61268-1746230400-1746316799@seashul.org
SUMMARY:20th day of the Omer
DESCRIPTION:
URL:https://seashul.org/events/20th-day-of-the-omer-6/
LOCATION:NJ
END:VEVENT
BEGIN:VEVENT
DTSTART;TZID=America/New_York:20250503T203800
DTEND;TZID=America/New_York:20250503T203800
DTSTAMP:20260425T181425
CREATED:20230726T163339Z
LAST-MODIFIED:20250504T000034Z
UID:61271-1746304680-1746304680@seashul.org
SUMMARY:Havdalah (45 min)
DESCRIPTION:
URL:https://seashul.org/events/havdalah-45-min-234/
LOCATION:Brigantine
END:VEVENT
BEGIN:VEVENT
DTSTART;VALUE=DATE:20250504
DTEND;VALUE=DATE:20250505
DTSTAMP:20260425T181425
CREATED:20230726T163339Z
LAST-MODIFIED:20250504T235755Z
UID:61274-1746316800-1746403199@seashul.org
SUMMARY:6th of Iyyar\, 5785
DESCRIPTION:
URL:https://seashul.org/events/6th-of-iyyar-5785/
LOCATION:NJ
END:VEVENT
BEGIN:VEVENT
DTSTART;VALUE=DATE:20250504
DTEND;VALUE=DATE:20250505
DTSTAMP:20260425T181425
CREATED:20230726T163339Z
LAST-MODIFIED:20250504T235755Z
UID:61275-1746316800-1746403199@seashul.org
SUMMARY:21st day of the Omer
DESCRIPTION:
URL:https://seashul.org/events/21st-day-of-the-omer-6/
LOCATION:NJ
END:VEVENT
BEGIN:VEVENT
DTSTART;VALUE=DATE:20250505
DTEND;VALUE=DATE:20250506
DTSTAMP:20260425T181425
CREATED:20230726T163339Z
LAST-MODIFIED:20250505T235931Z
UID:61273-1746403200-1746489599@seashul.org
SUMMARY:22nd day of the Omer
DESCRIPTION:
URL:https://seashul.org/events/22nd-day-of-the-omer-6/
LOCATION:NJ
END:VEVENT
BEGIN:VEVENT
DTSTART;VALUE=DATE:20250505
DTEND;VALUE=DATE:20250506
DTSTAMP:20260425T181425
CREATED:20230726T163340Z
LAST-MODIFIED:20250505T235931Z
UID:61276-1746403200-1746489599@seashul.org
SUMMARY:7th of Iyyar\, 5785
DESCRIPTION:
URL:https://seashul.org/events/7th-of-iyyar-5785/
LOCATION:NJ
END:VEVENT
BEGIN:VEVENT
DTSTART;VALUE=DATE:20250506
DTEND;VALUE=DATE:20250507
DTSTAMP:20260425T181425
CREATED:20230726T163339Z
LAST-MODIFIED:20250506T235945Z
UID:61272-1746489600-1746575999@seashul.org
SUMMARY:8th of Iyyar\, 5785
DESCRIPTION:
URL:https://seashul.org/events/8th-of-iyyar-5785/
LOCATION:NJ
END:VEVENT
BEGIN:VEVENT
DTSTART;VALUE=DATE:20250506
DTEND;VALUE=DATE:20250507
DTSTAMP:20260425T181425
CREATED:20230726T163340Z
LAST-MODIFIED:20250506T235945Z
UID:61280-1746489600-1746575999@seashul.org
SUMMARY:23rd day of the Omer
DESCRIPTION:
URL:https://seashul.org/events/23rd-day-of-the-omer-6/
LOCATION:NJ
END:VEVENT
BEGIN:VEVENT
DTSTART;VALUE=DATE:20250507
DTEND;VALUE=DATE:20250508
DTSTAMP:20260425T181425
CREATED:20230726T163340Z
LAST-MODIFIED:20250508T000103Z
UID:61278-1746576000-1746662399@seashul.org
SUMMARY:9th of Iyyar\, 5785
DESCRIPTION:
URL:https://seashul.org/events/9th-of-iyyar-5785/
LOCATION:NJ
END:VEVENT
BEGIN:VEVENT
DTSTART;VALUE=DATE:20250507
DTEND;VALUE=DATE:20250508
DTSTAMP:20260425T181425
CREATED:20230726T163340Z
LAST-MODIFIED:20250508T000104Z
UID:61279-1746576000-1746662399@seashul.org
SUMMARY:24th day of the Omer
DESCRIPTION:
URL:https://seashul.org/events/24th-day-of-the-omer-6/
LOCATION:NJ
END:VEVENT
BEGIN:VEVENT
DTSTART;TZID=America/New_York:20250507T150000
DTEND;TZID=America/New_York:20250507T160000
DTSTAMP:20260425T181425
CREATED:20230726T163340Z
LAST-MODIFIED:20250506T235945Z
UID:61281-1746630000-1746633600@seashul.org
SUMMARY:TBS Board meeting
DESCRIPTION:
URL:https://seashul.org/events/tbs-board-meeting-45/
LOCATION:Temple Beth Shalom\, 4419 W Brigantine Ave\, Brigantine\, NJ\, United States
END:VEVENT
BEGIN:VEVENT
DTSTART;VALUE=DATE:20250508
DTEND;VALUE=DATE:20250509
DTSTAMP:20260425T181425
CREATED:20230726T163340Z
LAST-MODIFIED:20250508T000104Z
UID:61277-1746662400-1746748799@seashul.org
SUMMARY:25th day of the Omer
DESCRIPTION:
URL:https://seashul.org/events/25th-day-of-the-omer-6/
LOCATION:NJ
END:VEVENT
BEGIN:VEVENT
DTSTART;VALUE=DATE:20250508
DTEND;VALUE=DATE:20250509
DTSTAMP:20260425T181425
CREATED:20230726T163341Z
LAST-MODIFIED:20250508T000103Z
UID:61284-1746662400-1746748799@seashul.org
SUMMARY:10th of Iyyar\, 5785
DESCRIPTION:
URL:https://seashul.org/events/10th-of-iyyar-5785/
LOCATION:NJ
END:VEVENT
BEGIN:VEVENT
DTSTART;VALUE=DATE:20250509
DTEND;VALUE=DATE:20250510
DTSTAMP:20260425T181425
CREATED:20230726T163341Z
LAST-MODIFIED:20250509T231446Z
UID:61282-1746748800-1746835199@seashul.org
SUMMARY:26th day of the Omer
DESCRIPTION:
URL:https://seashul.org/events/26th-day-of-the-omer-6/
LOCATION:NJ
END:VEVENT
BEGIN:VEVENT
DTSTART;VALUE=DATE:20250509
DTEND;VALUE=DATE:20250510
DTSTAMP:20260425T181425
CREATED:20230726T163341Z
LAST-MODIFIED:20250509T231446Z
UID:61283-1746748800-1746835199@seashul.org
SUMMARY:11th of Iyyar\, 5785
DESCRIPTION:
URL:https://seashul.org/events/11th-of-iyyar-5785/
LOCATION:NJ
END:VEVENT
BEGIN:VEVENT
DTSTART;TZID=America/New_York:20250509T194100
DTEND;TZID=America/New_York:20250509T194100
DTSTAMP:20260425T181425
CREATED:20230726T163341Z
LAST-MODIFIED:20250509T231446Z
UID:61285-1746819660-1746819660@seashul.org
SUMMARY:Candle lighting
DESCRIPTION:
URL:https://seashul.org/events/candle-lighting-388/
LOCATION:Brigantine
END:VEVENT
BEGIN:VEVENT
DTSTART;VALUE=DATE:20250510
DTEND;VALUE=DATE:20250511
DTSTAMP:20260425T181425
CREATED:20230726T163342Z
LAST-MODIFIED:20250510T231316Z
UID:61286-1746835200-1746921599@seashul.org
SUMMARY:12th of Iyyar\, 5785
DESCRIPTION:
URL:https://seashul.org/events/12th-of-iyyar-5785/
LOCATION:NJ
END:VEVENT
BEGIN:VEVENT
DTSTART;VALUE=DATE:20250510
DTEND;VALUE=DATE:20250511
DTSTAMP:20260425T181425
CREATED:20230726T163342Z
LAST-MODIFIED:20250510T231316Z
UID:61287-1746835200-1746921599@seashul.org
SUMMARY:27th day of the Omer
DESCRIPTION:
URL:https://seashul.org/events/27th-day-of-the-omer-5/
LOCATION:NJ
END:VEVENT
BEGIN:VEVENT
DTSTART;VALUE=DATE:20250510
DTEND;VALUE=DATE:20250511
DTSTAMP:20260425T181425
CREATED:20230726T163342Z
LAST-MODIFIED:20250510T231317Z
UID:61288-1746835200-1746921599@seashul.org
SUMMARY:Parashat Achrei Mot-Kedoshim
DESCRIPTION:Torah: Leviticus 16:1-20:27\nHaftarah: Amos 9:7 – 9:15\nhttps://www.hebcal.com/sedrot/achreimotkedoshim?utm_source=js&utm_medium=icalendar
URL:https://seashul.org/events/parashat-achrei-mot-kedoshim-4/
LOCATION:NJ
END:VEVENT
BEGIN:VEVENT
DTSTART;TZID=America/New_York:20250510T204500
DTEND;TZID=America/New_York:20250510T204500
DTSTAMP:20260425T181425
CREATED:20230726T163342Z
LAST-MODIFIED:20250510T231317Z
UID:61289-1746909900-1746909900@seashul.org
SUMMARY:Havdalah (45 min)
DESCRIPTION:
URL:https://seashul.org/events/havdalah-45-min-235/
LOCATION:Brigantine
END:VEVENT
BEGIN:VEVENT
DTSTART;VALUE=DATE:20250511
DTEND;VALUE=DATE:20250512
DTSTAMP:20260425T181425
CREATED:20230726T163343Z
LAST-MODIFIED:20250511T232936Z
UID:61295-1746921600-1747007999@seashul.org
SUMMARY:28th day of the Omer
DESCRIPTION:
URL:https://seashul.org/events/28th-day-of-the-omer-5/
LOCATION:NJ
END:VEVENT
BEGIN:VEVENT
DTSTART;VALUE=DATE:20250511
DTEND;VALUE=DATE:20250512
DTSTAMP:20260425T181425
CREATED:20230726T163344Z
LAST-MODIFIED:20250511T232936Z
UID:61296-1746921600-1747007999@seashul.org
SUMMARY:13th of Iyyar\, 5785
DESCRIPTION:
URL:https://seashul.org/events/13th-of-iyyar-5785/
LOCATION:NJ
END:VEVENT
BEGIN:VEVENT
DTSTART;VALUE=DATE:20250512
DTEND;VALUE=DATE:20250513
DTSTAMP:20260425T181425
CREATED:20230726T163343Z
LAST-MODIFIED:20250512T233424Z
UID:61294-1747008000-1747094399@seashul.org
SUMMARY:14th of Iyyar\, 5785
DESCRIPTION:
URL:https://seashul.org/events/14th-of-iyyar-5785/
LOCATION:NJ
END:VEVENT
END:VCALENDAR