BEGIN:VCALENDAR
VERSION:2.0
PRODID:-//Temple Beth Shalom - ECPv6.15.14//NONSGML v1.0//EN
CALSCALE:GREGORIAN
METHOD:PUBLISH
X-WR-CALNAME:Temple Beth Shalom
X-ORIGINAL-URL:https://seashul.org
X-WR-CALDESC:Events for Temple Beth Shalom
REFRESH-INTERVAL;VALUE=DURATION:PT1H
X-Robots-Tag:noindex
X-PUBLISHED-TTL:PT1H
BEGIN:VTIMEZONE
TZID:America/New_York
BEGIN:DAYLIGHT
TZOFFSETFROM:-0500
TZOFFSETTO:-0400
TZNAME:EDT
DTSTART:20240310T070000
END:DAYLIGHT
BEGIN:STANDARD
TZOFFSETFROM:-0400
TZOFFSETTO:-0500
TZNAME:EST
DTSTART:20241103T060000
END:STANDARD
BEGIN:DAYLIGHT
TZOFFSETFROM:-0500
TZOFFSETTO:-0400
TZNAME:EDT
DTSTART:20250309T070000
END:DAYLIGHT
BEGIN:STANDARD
TZOFFSETFROM:-0400
TZOFFSETTO:-0500
TZNAME:EST
DTSTART:20251102T060000
END:STANDARD
BEGIN:DAYLIGHT
TZOFFSETFROM:-0500
TZOFFSETTO:-0400
TZNAME:EDT
DTSTART:20260308T070000
END:DAYLIGHT
BEGIN:STANDARD
TZOFFSETFROM:-0400
TZOFFSETTO:-0500
TZNAME:EST
DTSTART:20261101T060000
END:STANDARD
END:VTIMEZONE
BEGIN:VEVENT
DTSTART;VALUE=DATE:20250101
DTEND;VALUE=DATE:20250102
DTSTAMP:20260424T092904
CREATED:20230102T232130Z
LAST-MODIFIED:20250101T234307Z
UID:60867-1735689600-1735775999@seashul.org
SUMMARY:Chanukah: 8 Candles
DESCRIPTION:The Jewish festival of rededication\, also known as the Festival of Lights. Sometimes spelled Hanukkah\, Chanukkah\, Hanukah\, or Hannukah\nTorah: Numbers 28:1-28:15\nhttps://www.hebcal.com/holidays/chanukah?utm_source=js&utm_medium=icalendar
URL:https://seashul.org/events/chanukah-8-candles-4/
LOCATION:NJ
END:VEVENT
BEGIN:VEVENT
DTSTART;VALUE=DATE:20250101
DTEND;VALUE=DATE:20250102
DTSTAMP:20260424T092904
CREATED:20230102T232132Z
LAST-MODIFIED:20250101T234306Z
UID:60871-1735689600-1735775999@seashul.org
SUMMARY:1st of Tevet\, 5785
DESCRIPTION:
URL:https://seashul.org/events/1st-of-tevet-5785/
LOCATION:NJ
END:VEVENT
BEGIN:VEVENT
DTSTART;VALUE=DATE:20250101
DTEND;VALUE=DATE:20250102
DTSTAMP:20260424T092904
CREATED:20230102T232132Z
LAST-MODIFIED:20250101T234307Z
UID:60872-1735689600-1735775999@seashul.org
SUMMARY:Rosh Chodesh Tevet
DESCRIPTION:Beginning of new Hebrew month of Tevet. Tevet is the 10th month of the Hebrew year. Corresponds to December or January on the Gregorian calendar\nhttps://www.hebcal.com/holidays/rosh-chodesh-tevet?utm_source=js&utm_medium=icalendar
URL:https://seashul.org/events/rosh-chodesh-tevet-7/
LOCATION:NJ
END:VEVENT
BEGIN:VEVENT
DTSTART;VALUE=DATE:20250102
DTEND;VALUE=DATE:20250103
DTSTAMP:20260424T092904
CREATED:20230102T232132Z
LAST-MODIFIED:20250102T235030Z
UID:60870-1735776000-1735862399@seashul.org
SUMMARY:2nd of Tevet\, 5785
DESCRIPTION:
URL:https://seashul.org/events/2nd-of-tevet-5785/
LOCATION:NJ
END:VEVENT
BEGIN:VEVENT
DTSTART;VALUE=DATE:20250102
DTEND;VALUE=DATE:20250103
DTSTAMP:20260424T092904
CREATED:20230102T232133Z
LAST-MODIFIED:20250102T235031Z
UID:60873-1735776000-1735862399@seashul.org
SUMMARY:Chanukah: 8th Day
DESCRIPTION:The Jewish festival of rededication\, also known as the Festival of Lights. Sometimes spelled Hanukkah\, Chanukkah\, Hanukah\, or Hannukah\nTorah: Numbers 7:54-8:4\nhttps://www.hebcal.com/holidays/chanukah?utm_source=js&utm_medium=icalendar
URL:https://seashul.org/events/chanukah-8th-day-4/
LOCATION:NJ
END:VEVENT
BEGIN:VEVENT
DTSTART;VALUE=DATE:20250103
DTEND;VALUE=DATE:20250104
DTSTAMP:20260424T092904
CREATED:20230103T233057Z
LAST-MODIFIED:20250103T235824Z
UID:60878-1735862400-1735948799@seashul.org
SUMMARY:3rd of Tevet\, 5785
DESCRIPTION:
URL:https://seashul.org/events/3rd-of-tevet-5785/
LOCATION:NJ
END:VEVENT
BEGIN:VEVENT
DTSTART;TZID=America/New_York:20250103T162700
DTEND;TZID=America/New_York:20250103T162700
DTSTAMP:20260424T092904
CREATED:20230103T233058Z
LAST-MODIFIED:20250102T235031Z
UID:60883-1735921620-1735921620@seashul.org
SUMMARY:Candle lighting
DESCRIPTION:
URL:https://seashul.org/events/candle-lighting-370/
LOCATION:Brigantine
END:VEVENT
BEGIN:VEVENT
DTSTART;VALUE=DATE:20250104
DTEND;VALUE=DATE:20250105
DTSTAMP:20260424T092904
CREATED:20230104T233315Z
LAST-MODIFIED:20250103T235824Z
UID:60886-1735948800-1736035199@seashul.org
SUMMARY:Parashat Vayigash
DESCRIPTION:Torah: Genesis 44:18-47:27\nHaftarah: Ezekiel 37:15 – 37:28\nhttps://www.hebcal.com/sedrot/vayigash?utm_source=js&utm_medium=icalendar
URL:https://seashul.org/events/parashat-vayigash-6/
LOCATION:NJ
END:VEVENT
BEGIN:VEVENT
DTSTART;VALUE=DATE:20250104
DTEND;VALUE=DATE:20250105
DTSTAMP:20260424T092904
CREATED:20230104T233316Z
LAST-MODIFIED:20250103T235824Z
UID:60888-1735948800-1736035199@seashul.org
SUMMARY:4th of Tevet\, 5785
DESCRIPTION:
URL:https://seashul.org/events/4th-of-tevet-5785/
LOCATION:NJ
END:VEVENT
BEGIN:VEVENT
DTSTART;TZID=America/New_York:20250104T173100
DTEND;TZID=America/New_York:20250104T173100
DTSTAMP:20260424T092904
CREATED:20230104T233316Z
LAST-MODIFIED:20250103T235824Z
UID:60887-1736011860-1736011860@seashul.org
SUMMARY:Havdalah (45 min)
DESCRIPTION:
URL:https://seashul.org/events/havdalah-45-min-220/
LOCATION:Brigantine
END:VEVENT
BEGIN:VEVENT
DTSTART;VALUE=DATE:20250105
DTEND;VALUE=DATE:20250106
DTSTAMP:20260424T092905
CREATED:20230105T234618Z
LAST-MODIFIED:20250105T232239Z
UID:60892-1736035200-1736121599@seashul.org
SUMMARY:5th of Tevet\, 5785
DESCRIPTION:
URL:https://seashul.org/events/5th-of-tevet-5785/
LOCATION:NJ
END:VEVENT
BEGIN:VEVENT
DTSTART;VALUE=DATE:20250106
DTEND;VALUE=DATE:20250107
DTSTAMP:20260424T092905
CREATED:20230107T000103Z
LAST-MODIFIED:20250106T233022Z
UID:60898-1736121600-1736207999@seashul.org
SUMMARY:6th of Tevet\, 5785
DESCRIPTION:
URL:https://seashul.org/events/6th-of-tevet-5785/
LOCATION:NJ
END:VEVENT
BEGIN:VEVENT
DTSTART;VALUE=DATE:20250107
DTEND;VALUE=DATE:20250108
DTSTAMP:20260424T092905
CREATED:20230108T232145Z
LAST-MODIFIED:20250107T233106Z
UID:60901-1736208000-1736294399@seashul.org
SUMMARY:7th of Tevet\, 5785
DESCRIPTION:
URL:https://seashul.org/events/7th-of-tevet-5785/
LOCATION:NJ
END:VEVENT
BEGIN:VEVENT
DTSTART;VALUE=DATE:20250108
DTEND;VALUE=DATE:20250109
DTSTAMP:20260424T092905
CREATED:20230108T232145Z
LAST-MODIFIED:20250108T234514Z
UID:60902-1736294400-1736380799@seashul.org
SUMMARY:8th of Tevet\, 5785
DESCRIPTION:
URL:https://seashul.org/events/8th-of-tevet-5785/
LOCATION:NJ
END:VEVENT
BEGIN:VEVENT
DTSTART;VALUE=DATE:20250109
DTEND;VALUE=DATE:20250110
DTSTAMP:20260424T092905
CREATED:20230109T233837Z
LAST-MODIFIED:20250109T234522Z
UID:60906-1736380800-1736467199@seashul.org
SUMMARY:9th of Tevet\, 5785
DESCRIPTION:
URL:https://seashul.org/events/9th-of-tevet-5785/
LOCATION:NJ
END:VEVENT
BEGIN:VEVENT
DTSTART;VALUE=DATE:20250110
DTEND;VALUE=DATE:20250111
DTSTAMP:20260424T092905
CREATED:20230110T235207Z
LAST-MODIFIED:20250110T234519Z
UID:60909-1736467200-1736553599@seashul.org
SUMMARY:Asara B'Tevet
DESCRIPTION:Fast commemorating the siege of Jerusalem\nTorah: Exodus 32:11-34:10\nhttps://www.hebcal.com/holidays/asara-btevet?utm_source=js&utm_medium=icalendar
URL:https://seashul.org/events/asara-btevet-23/
LOCATION:NJ
END:VEVENT
BEGIN:VEVENT
DTSTART;VALUE=DATE:20250110
DTEND;VALUE=DATE:20250111
DTSTAMP:20260424T092905
CREATED:20230110T235207Z
LAST-MODIFIED:20250110T234519Z
UID:60910-1736467200-1736553599@seashul.org
SUMMARY:10th of Tevet\, 5785
DESCRIPTION:
URL:https://seashul.org/events/10th-of-tevet-5785/
LOCATION:NJ
END:VEVENT
BEGIN:VEVENT
DTSTART;VALUE=DATE:20250111
DTEND;VALUE=DATE:20250112
DTSTAMP:20260424T092905
CREATED:20230112T000244Z
LAST-MODIFIED:20250111T235757Z
UID:60918-1736553600-1736639999@seashul.org
SUMMARY:Parashat Vayechi
DESCRIPTION:Torah: Genesis 47:28-50:26\nHaftarah: I Kings 2:1 – 2:12\nhttps://www.hebcal.com/sedrot/vayechi?utm_source=js&utm_medium=icalendar
URL:https://seashul.org/events/parashat-vayechi-4/
LOCATION:NJ
END:VEVENT
BEGIN:VEVENT
DTSTART;VALUE=DATE:20250111
DTEND;VALUE=DATE:20250112
DTSTAMP:20260424T092905
CREATED:20230112T000244Z
LAST-MODIFIED:20250111T235757Z
UID:60920-1736553600-1736639999@seashul.org
SUMMARY:11th of Tevet\, 5785
DESCRIPTION:
URL:https://seashul.org/events/11th-of-tevet-5785/
LOCATION:NJ
END:VEVENT
BEGIN:VEVENT
DTSTART;TZID=America/New_York:20250111T173700
DTEND;TZID=America/New_York:20250111T173700
DTSTAMP:20260424T092905
CREATED:20230112T000244Z
LAST-MODIFIED:20250110T234519Z
UID:60922-1736617020-1736617020@seashul.org
SUMMARY:Havdalah (45 min)
DESCRIPTION:
URL:https://seashul.org/events/havdalah-45-min-221/
LOCATION:Brigantine
END:VEVENT
BEGIN:VEVENT
DTSTART;VALUE=DATE:20250112
DTEND;VALUE=DATE:20250113
DTSTAMP:20260424T092905
CREATED:20230113T230537Z
LAST-MODIFIED:20250111T235757Z
UID:60927-1736640000-1736726399@seashul.org
SUMMARY:12th of Tevet\, 5785
DESCRIPTION:
URL:https://seashul.org/events/12th-of-tevet-5785/
LOCATION:NJ
END:VEVENT
BEGIN:VEVENT
DTSTART;VALUE=DATE:20250113
DTEND;VALUE=DATE:20250114
DTSTAMP:20260424T092905
CREATED:20230113T230539Z
LAST-MODIFIED:20250113T231516Z
UID:60928-1736726400-1736812799@seashul.org
SUMMARY:13th of Tevet\, 5785
DESCRIPTION:
URL:https://seashul.org/events/13th-of-tevet-5785/
LOCATION:NJ
END:VEVENT
BEGIN:VEVENT
DTSTART;VALUE=DATE:20250114
DTEND;VALUE=DATE:20250115
DTSTAMP:20260424T092905
CREATED:20230114T231548Z
LAST-MODIFIED:20250114T232806Z
UID:60932-1736812800-1736899199@seashul.org
SUMMARY:14th of Tevet\, 5785
DESCRIPTION:
URL:https://seashul.org/events/14th-of-tevet-5785/
LOCATION:NJ
END:VEVENT
BEGIN:VEVENT
DTSTART;VALUE=DATE:20250115
DTEND;VALUE=DATE:20250116
DTSTAMP:20260424T092905
CREATED:20230115T233058Z
LAST-MODIFIED:20250114T232806Z
UID:60935-1736899200-1736985599@seashul.org
SUMMARY:15th of Tevet\, 5785
DESCRIPTION:
URL:https://seashul.org/events/15th-of-tevet-5785/
LOCATION:NJ
END:VEVENT
BEGIN:VEVENT
DTSTART;VALUE=DATE:20250116
DTEND;VALUE=DATE:20250117
DTSTAMP:20260424T092905
CREATED:20230116T233440Z
LAST-MODIFIED:20250116T231252Z
UID:60938-1736985600-1737071999@seashul.org
SUMMARY:16th of Tevet\, 5785
DESCRIPTION:
URL:https://seashul.org/events/16th-of-tevet-5785/
LOCATION:NJ
END:VEVENT
BEGIN:VEVENT
DTSTART;VALUE=DATE:20250117
DTEND;VALUE=DATE:20250118
DTSTAMP:20260424T092905
CREATED:20230117T234444Z
LAST-MODIFIED:20250117T232756Z
UID:60941-1737072000-1737158399@seashul.org
SUMMARY:17th of Tevet\, 5785
DESCRIPTION:
URL:https://seashul.org/events/17th-of-tevet-5785/
LOCATION:NJ
END:VEVENT
BEGIN:VEVENT
DTSTART;VALUE=DATE:20250118
DTEND;VALUE=DATE:20250119
DTSTAMP:20260424T092905
CREATED:20230119T000129Z
LAST-MODIFIED:20250118T234257Z
UID:60946-1737158400-1737244799@seashul.org
SUMMARY:Parashat Shemot
DESCRIPTION:Torah: Exodus 1:1-6:1\nHaftarah: Isaiah 27:6 – 28:13; 29:22 – 29:23\nHaftarah for Sephardim: Jeremiah 1:1 – 2:3\nhttps://www.hebcal.com/sedrot/shemot?utm_source=js&utm_medium=icalendar
URL:https://seashul.org/events/parashat-shemot-25/
LOCATION:NJ
END:VEVENT
BEGIN:VEVENT
DTSTART;VALUE=DATE:20250118
DTEND;VALUE=DATE:20250119
DTSTAMP:20260424T092905
CREATED:20230119T000129Z
LAST-MODIFIED:20250118T234257Z
UID:60948-1737158400-1737244799@seashul.org
SUMMARY:18th of Tevet\, 5785
DESCRIPTION:
URL:https://seashul.org/events/18th-of-tevet-5785/
LOCATION:NJ
END:VEVENT
BEGIN:VEVENT
DTSTART;VALUE=DATE:20250119
DTEND;VALUE=DATE:20250120
DTSTAMP:20260424T092905
CREATED:20230120T230653Z
LAST-MODIFIED:20250119T235758Z
UID:60951-1737244800-1737331199@seashul.org
SUMMARY:19th of Tevet\, 5785
DESCRIPTION:
URL:https://seashul.org/events/19th-of-tevet-5785/
LOCATION:NJ
END:VEVENT
BEGIN:VEVENT
DTSTART;VALUE=DATE:20250120
DTEND;VALUE=DATE:20250121
DTSTAMP:20260424T092905
CREATED:20230120T230654Z
LAST-MODIFIED:20250121T000038Z
UID:60954-1737331200-1737417599@seashul.org
SUMMARY:20th of Tevet\, 5785
DESCRIPTION:
URL:https://seashul.org/events/20th-of-tevet-5785/
LOCATION:NJ
END:VEVENT
END:VCALENDAR