BEGIN:VCALENDAR
VERSION:2.0
PRODID:-//Temple Beth Shalom - ECPv6.15.14//NONSGML v1.0//EN
CALSCALE:GREGORIAN
METHOD:PUBLISH
X-WR-CALNAME:Temple Beth Shalom
X-ORIGINAL-URL:https://seashul.org
X-WR-CALDESC:Events for Temple Beth Shalom
REFRESH-INTERVAL;VALUE=DURATION:PT1H
X-Robots-Tag:noindex
X-PUBLISHED-TTL:PT1H
BEGIN:VTIMEZONE
TZID:America/New_York
BEGIN:DAYLIGHT
TZOFFSETFROM:-0500
TZOFFSETTO:-0400
TZNAME:EDT
DTSTART:20250309T070000
END:DAYLIGHT
BEGIN:STANDARD
TZOFFSETFROM:-0400
TZOFFSETTO:-0500
TZNAME:EST
DTSTART:20251102T060000
END:STANDARD
BEGIN:DAYLIGHT
TZOFFSETFROM:-0500
TZOFFSETTO:-0400
TZNAME:EDT
DTSTART:20260308T070000
END:DAYLIGHT
BEGIN:STANDARD
TZOFFSETFROM:-0400
TZOFFSETTO:-0500
TZNAME:EST
DTSTART:20261101T060000
END:STANDARD
BEGIN:DAYLIGHT
TZOFFSETFROM:-0500
TZOFFSETTO:-0400
TZNAME:EDT
DTSTART:20270314T070000
END:DAYLIGHT
BEGIN:STANDARD
TZOFFSETFROM:-0400
TZOFFSETTO:-0500
TZNAME:EST
DTSTART:20271107T060000
END:STANDARD
END:VTIMEZONE
BEGIN:VEVENT
DTSTART;VALUE=DATE:20260422
DTEND;VALUE=DATE:20260423
DTSTAMP:20260422T062027
CREATED:20240422T234610Z
LAST-MODIFIED:20250608T231526Z
UID:63265-1776816000-1776902399@seashul.org
SUMMARY:5th of Iyyar\, 5786
DESCRIPTION:
URL:https://seashul.org/events/5th-of-iyyar-5786/
LOCATION:NJ
END:VEVENT
BEGIN:VEVENT
DTSTART;VALUE=DATE:20260422
DTEND;VALUE=DATE:20260423
DTSTAMP:20260422T062027
CREATED:20240422T234610Z
LAST-MODIFIED:20250608T231526Z
UID:63266-1776816000-1776902399@seashul.org
SUMMARY:Yom HaAtzma'ut
DESCRIPTION:Israeli Independence Day. Commemorates the declaration of independence of Israel in 1948. Note that Hebcal displays modern holidays like Yom HaAtzma’ut according to the Israeli schedule. Although Yom HaAtzma’ut is normally observed on the 5th of Iyyar\, it may be moved earlier or postponed if observance of the holiday (or Yom HaZikaron\, which always preceeds it) would conflict with Shabbat\nhttps://www.hebcal.com/holidays/yom-haatzmaut?utm_source=js&utm_medium=icalendar
URL:https://seashul.org/events/yom-haatzmaut-7/
LOCATION:NJ
END:VEVENT
BEGIN:VEVENT
DTSTART;VALUE=DATE:20260422
DTEND;VALUE=DATE:20260423
DTSTAMP:20260422T062027
CREATED:20240422T234611Z
LAST-MODIFIED:20250608T231526Z
UID:63267-1776816000-1776902399@seashul.org
SUMMARY:20th day of the Omer
DESCRIPTION:
URL:https://seashul.org/events/20th-day-of-the-omer-7/
LOCATION:NJ
END:VEVENT
BEGIN:VEVENT
DTSTART;VALUE=DATE:20260423
DTEND;VALUE=DATE:20260424
DTSTAMP:20260422T062027
CREATED:20240424T000041Z
LAST-MODIFIED:20250608T231526Z
UID:63274-1776902400-1776988799@seashul.org
SUMMARY:6th of Iyyar\, 5786
DESCRIPTION:
URL:https://seashul.org/events/6th-of-iyyar-5786/
LOCATION:NJ
END:VEVENT
BEGIN:VEVENT
DTSTART;VALUE=DATE:20260423
DTEND;VALUE=DATE:20260424
DTSTAMP:20260422T062027
CREATED:20240424T000042Z
LAST-MODIFIED:20250608T231526Z
UID:63275-1776902400-1776988799@seashul.org
SUMMARY:21st day of the Omer
DESCRIPTION:
URL:https://seashul.org/events/21st-day-of-the-omer-7/
LOCATION:NJ
END:VEVENT
BEGIN:VEVENT
DTSTART;VALUE=DATE:20260424
DTEND;VALUE=DATE:20260425
DTSTAMP:20260422T062027
CREATED:20240425T000106Z
LAST-MODIFIED:20250608T231526Z
UID:63281-1776988800-1777075199@seashul.org
SUMMARY:22nd day of the Omer
DESCRIPTION:
URL:https://seashul.org/events/22nd-day-of-the-omer-7/
LOCATION:NJ
END:VEVENT
BEGIN:VEVENT
DTSTART;VALUE=DATE:20260424
DTEND;VALUE=DATE:20260425
DTSTAMP:20260422T062027
CREATED:20240425T000106Z
LAST-MODIFIED:20250608T231526Z
UID:63280-1776988800-1777075199@seashul.org
SUMMARY:7th of Iyyar\, 5786
DESCRIPTION:
URL:https://seashul.org/events/7th-of-iyyar-5786/
LOCATION:NJ
END:VEVENT
BEGIN:VEVENT
DTSTART;TZID=America/New_York:20260424T192600
DTEND;TZID=America/New_York:20260424T192600
DTSTAMP:20260422T062027
CREATED:20240425T000105Z
LAST-MODIFIED:20250608T231526Z
UID:63279-1777058760-1777058760@seashul.org
SUMMARY:Candle lighting
DESCRIPTION:
URL:https://seashul.org/events/candle-lighting-193/
LOCATION:Brigantine
END:VEVENT
BEGIN:VEVENT
DTSTART;VALUE=DATE:20260425
DTEND;VALUE=DATE:20260426
DTSTAMP:20260422T062027
CREATED:20240426T231538Z
LAST-MODIFIED:20250608T231526Z
UID:63284-1777075200-1777161599@seashul.org
SUMMARY:8th of Iyyar\, 5786
DESCRIPTION:
URL:https://seashul.org/events/8th-of-iyyar-5786/
LOCATION:NJ
END:VEVENT
BEGIN:VEVENT
DTSTART;VALUE=DATE:20260425
DTEND;VALUE=DATE:20260426
DTSTAMP:20260422T062027
CREATED:20240426T231538Z
LAST-MODIFIED:20250608T231526Z
UID:63285-1777075200-1777161599@seashul.org
SUMMARY:23rd day of the Omer
DESCRIPTION:
URL:https://seashul.org/events/23rd-day-of-the-omer-7/
LOCATION:NJ
END:VEVENT
BEGIN:VEVENT
DTSTART;VALUE=DATE:20260425
DTEND;VALUE=DATE:20260426
DTSTAMP:20260422T062027
CREATED:20240426T231539Z
LAST-MODIFIED:20250608T231526Z
UID:63290-1777075200-1777161599@seashul.org
SUMMARY:Parashat Achrei Mot-Kedoshim
DESCRIPTION:Torah: Leviticus 16:1-20:27\nHaftarah: Amos 9:7 – 9:15\nhttps://www.hebcal.com/sedrot/achreimotkedoshim?utm_source=js&utm_medium=icalendar
URL:https://seashul.org/events/parashat-achrei-mot-kedoshim-5/
LOCATION:NJ
END:VEVENT
BEGIN:VEVENT
DTSTART;TZID=America/New_York:20260425T203000
DTEND;TZID=America/New_York:20260425T203000
DTSTAMP:20260422T062027
CREATED:20240426T231539Z
LAST-MODIFIED:20250608T231526Z
UID:63291-1777149000-1777149000@seashul.org
SUMMARY:Havdalah (45 min)
DESCRIPTION:
URL:https://seashul.org/events/havdalah-45-min-277/
LOCATION:Brigantine
END:VEVENT
BEGIN:VEVENT
DTSTART;VALUE=DATE:20260426
DTEND;VALUE=DATE:20260427
DTSTAMP:20260422T062027
CREATED:20240426T231538Z
LAST-MODIFIED:20250608T231527Z
UID:63288-1777161600-1777247999@seashul.org
SUMMARY:24th day of the Omer
DESCRIPTION:
URL:https://seashul.org/events/24th-day-of-the-omer-7/
LOCATION:NJ
END:VEVENT
BEGIN:VEVENT
DTSTART;VALUE=DATE:20260426
DTEND;VALUE=DATE:20260427
DTSTAMP:20260422T062027
CREATED:20240426T231538Z
LAST-MODIFIED:20250608T231526Z
UID:63289-1777161600-1777247999@seashul.org
SUMMARY:9th of Iyyar\, 5786
DESCRIPTION:
URL:https://seashul.org/events/9th-of-iyyar-5786/
LOCATION:NJ
END:VEVENT
BEGIN:VEVENT
DTSTART;VALUE=DATE:20260427
DTEND;VALUE=DATE:20260428
DTSTAMP:20260422T062027
CREATED:20240427T233043Z
LAST-MODIFIED:20250608T231527Z
UID:63295-1777248000-1777334399@seashul.org
SUMMARY:25th day of the Omer
DESCRIPTION:
URL:https://seashul.org/events/25th-day-of-the-omer-7/
LOCATION:NJ
END:VEVENT
BEGIN:VEVENT
DTSTART;VALUE=DATE:20260427
DTEND;VALUE=DATE:20260428
DTSTAMP:20260422T062027
CREATED:20240427T233043Z
LAST-MODIFIED:20250608T231527Z
UID:63294-1777248000-1777334399@seashul.org
SUMMARY:10th of Iyyar\, 5786
DESCRIPTION:
URL:https://seashul.org/events/10th-of-iyyar-5786/
LOCATION:NJ
END:VEVENT
BEGIN:VEVENT
DTSTART;VALUE=DATE:20260428
DTEND;VALUE=DATE:20260429
DTSTAMP:20260422T062027
CREATED:20240428T233041Z
LAST-MODIFIED:20250608T231527Z
UID:63303-1777334400-1777420799@seashul.org
SUMMARY:26th day of the Omer
DESCRIPTION:
URL:https://seashul.org/events/26th-day-of-the-omer-7/
LOCATION:NJ
END:VEVENT
BEGIN:VEVENT
DTSTART;VALUE=DATE:20260428
DTEND;VALUE=DATE:20260429
DTSTAMP:20260422T062027
CREATED:20240428T233042Z
LAST-MODIFIED:20250608T231527Z
UID:63304-1777334400-1777420799@seashul.org
SUMMARY:11th of Iyyar\, 5786
DESCRIPTION:
URL:https://seashul.org/events/11th-of-iyyar-5786/
LOCATION:NJ
END:VEVENT
BEGIN:VEVENT
DTSTART;VALUE=DATE:20260429
DTEND;VALUE=DATE:20260430
DTSTAMP:20260422T062027
CREATED:20240429T234528Z
LAST-MODIFIED:20250608T231527Z
UID:63307-1777420800-1777507199@seashul.org
SUMMARY:12th of Iyyar\, 5786
DESCRIPTION:
URL:https://seashul.org/events/12th-of-iyyar-5786/
LOCATION:NJ
END:VEVENT
BEGIN:VEVENT
DTSTART;VALUE=DATE:20260429
DTEND;VALUE=DATE:20260430
DTSTAMP:20260422T062027
CREATED:20240429T234529Z
LAST-MODIFIED:20250608T231527Z
UID:63308-1777420800-1777507199@seashul.org
SUMMARY:27th day of the Omer
DESCRIPTION:
URL:https://seashul.org/events/27th-day-of-the-omer-6/
LOCATION:NJ
END:VEVENT
BEGIN:VEVENT
DTSTART;VALUE=DATE:20260430
DTEND;VALUE=DATE:20260501
DTSTAMP:20260422T062027
CREATED:20240430T234523Z
LAST-MODIFIED:20250608T231527Z
UID:63312-1777507200-1777593599@seashul.org
SUMMARY:28th day of the Omer
DESCRIPTION:
URL:https://seashul.org/events/28th-day-of-the-omer-6/
LOCATION:NJ
END:VEVENT
BEGIN:VEVENT
DTSTART;VALUE=DATE:20260430
DTEND;VALUE=DATE:20260501
DTSTAMP:20260422T062027
CREATED:20240430T234523Z
LAST-MODIFIED:20250608T231527Z
UID:63313-1777507200-1777593599@seashul.org
SUMMARY:13th of Iyyar\, 5786
DESCRIPTION:
URL:https://seashul.org/events/13th-of-iyyar-5786/
LOCATION:NJ
END:VEVENT
END:VCALENDAR